BEGIN:VCALENDAR
VERSION:2.0
PRODID:-//The Franklin Club - ECPv4.6.13//NONSGML v1.0//EN
CALSCALE:GREGORIAN
METHOD:PUBLISH
X-WR-CALNAME:The Franklin Club
X-ORIGINAL-URL:http://www.franklinclub.co.nz
X-WR-CALDESC:Events for The Franklin Club
BEGIN:VEVENT
DTSTART;VALUE=DATE:20181105
DTEND;VALUE=DATE:20181106
DTSTAMP:20181224T084650
CREATED:20181101T013953Z
LAST-MODIFIED:20181101T013953Z
UID:750-1541376000-1541462399@www.franklinclub.co.nz
SUMMARY:Calcutta Auction Cancelled
DESCRIPTION:Due to low ticket sales the 2018 Calcutta Auction has been cancelled. \n  \n
URL:http://www.franklinclub.co.nz/event/calcutta-auction-cancelled/
ATTACH;FMTTYPE=image/jpeg:http://www.franklinclub.co.nz/wp-content/uploads/Calcutta-Cancelled-2018-Poster-Landscape-e1541036377830.jpg
END:VEVENT
END:VCALENDAR